BEGIN:VCALENDAR
VERSION:2.0
PRODID:-//Magic13brewing - ECPv6.15.20//NONSGML v1.0//EN
CALSCALE:GREGORIAN
METHOD:PUBLISH
X-ORIGINAL-URL:https://magic13brewing.com
X-WR-CALDESC:Events for Magic13brewing
REFRESH-INTERVAL;VALUE=DURATION:PT1H
X-Robots-Tag:noindex
X-PUBLISHED-TTL:PT1H
BEGIN:VTIMEZONE
TZID:UTC
BEGIN:STANDARD
TZOFFSETFROM:+0000
TZOFFSETTO:+0000
TZNAME:UTC
DTSTART:20220101T000000
END:STANDARD
END:VTIMEZONE
BEGIN:VEVENT
DTSTART;TZID=UTC:20230325T113000
DTEND;TZID=UTC:20230325T230000
DTSTAMP:20260421T130558
CREATED:20230323T223407Z
LAST-MODIFIED:20230323T223443Z
UID:2990-1679743800-1679785200@magic13brewing.com
SUMMARY:Magic Garden Sessions Presents Lotus Garden
DESCRIPTION:
URL:https://magic13brewing.com/event/magic-garden-sessions-presents-lotus-garden/
ATTACH;FMTTYPE=image/jpeg:https://magic13brewing.com/wp-content/uploads/2023/03/FAMA-INSTA-scaled.jpg
END:VEVENT
END:VCALENDAR