BEGIN:VCALENDAR
VERSION:2.0
PRODID:-//Magic13brewing - ECPv6.15.20//NONSGML v1.0//EN
CALSCALE:GREGORIAN
METHOD:PUBLISH
X-ORIGINAL-URL:https://magic13brewing.com
X-WR-CALDESC:Events for Magic13brewing
REFRESH-INTERVAL;VALUE=DURATION:PT1H
X-Robots-Tag:noindex
X-PUBLISHED-TTL:PT1H
BEGIN:VTIMEZONE
TZID:UTC
BEGIN:STANDARD
TZOFFSETFROM:+0000
TZOFFSETTO:+0000
TZNAME:UTC
DTSTART:20220101T000000
END:STANDARD
END:VTIMEZONE
BEGIN:VEVENT
DTSTART;TZID=UTC:20230304T210000
DTEND;TZID=UTC:20230304T235900
DTSTAMP:20260421T125615
CREATED:20230301T201040Z
LAST-MODIFIED:20230301T201102Z
UID:2909-1677963600-1677974340@magic13brewing.com
SUMMARY:Blood Moon Mafia
DESCRIPTION:
URL:https://magic13brewing.com/event/blood-moon-mafia/
END:VEVENT
END:VCALENDAR